BEGIN:VCALENDAR
VERSION:2.0
PRODID:-//eventon.com NONSGML v1.0//EN
CALSCALE:GREGORIAN
METHOD:PUBLISH
BEGIN:VEVENT
UID:69ecb1c7ed8bb
DTSTAMP:20260425T122127Z
DTSTART:20260503T130000Z
DTEND:20260503T140000Z
LOCATION:
SUMMARY:Barokmuziek aan den Rijn
DESCRIPTION:\nhttps://scheepjeskerk.nl/events/barokmuziek-aan-den-rijn
URL:https://scheepjeskerk.nl/events/barokmuziek-aan-den-rijn
END:VEVENT
END:VCALENDAR